BEGIN:VCALENDAR
VERSION:2.0
PRODID:-//Orange City Chamber of Commerce - ECPv6.11.2.1//NONSGML v1.0//EN
CALSCALE:GREGORIAN
METHOD:PUBLISH
X-ORIGINAL-URL:https://orangecity.biz
X-WR-CALDESC:Events for Orange City Chamber of Commerce
REFRESH-INTERVAL;VALUE=DURATION:PT1H
X-Robots-Tag:noindex
X-PUBLISHED-TTL:PT1H
BEGIN:VTIMEZONE
TZID:America/Chicago
BEGIN:DAYLIGHT
TZOFFSETFROM:-0600
TZOFFSETTO:-0500
TZNAME:CDT
DTSTART:20230312T080000
END:DAYLIGHT
BEGIN:STANDARD
TZOFFSETFROM:-0500
TZOFFSETTO:-0600
TZNAME:CST
DTSTART:20231105T070000
END:STANDARD
END:VTIMEZONE
BEGIN:VEVENT
DTSTART;TZID=America/Chicago:20231213T160000
DTEND;TZID=America/Chicago:20231213T190000
DTSTAMP:20260422T202113
CREATED:20231127T205236Z
LAST-MODIFIED:20231127T210036Z
UID:43525-1702483200-1702494000@orangecity.biz
SUMMARY:Wine Walk
DESCRIPTION:Looking to savor the flavors and stroll through downtown Orange City? Get ready for an unforgettable experience at the Chamber Merchants Wine Walk! \nJoin us on Wednesday\, December 13 for an evening of fun\, wine\, savory sweets as we sip\, savor\, and celebrate the best of local wines right in the heart of downtown. \nWine enthusiasts and sweets lovers\, this one’s for you! \nYou’ll have the chance to taste an array of exquisite wines from Iowa and beyond all while shopping some great Orange City retailers. \nLearn More…….
URL:https://orangecity.biz/event/wine-walk/
LOCATION:Downtown Orange City\, 125 Central Ave NE\, Orange City\, IA\, 51041\, United States
CATEGORIES:Chamber Events
ATTACH;FMTTYPE=image/png:https://orangecity.biz/wp-content/uploads/2023/11/Wine-Logo-background_website-event_logo.png
ORGANIZER;CN="Orange CIty Chamber":MAILTO:mike@orangecity.biz
END:VEVENT
END:VCALENDAR