BEGIN:VCALENDAR
VERSION:2.0
PRODID:-//Orange City Chamber of Commerce - ECPv6.11.2.1//NONSGML v1.0//EN
CALSCALE:GREGORIAN
METHOD:PUBLISH
X-ORIGINAL-URL:https://orangecity.biz
X-WR-CALDESC:Events for Orange City Chamber of Commerce
REFRESH-INTERVAL;VALUE=DURATION:PT1H
X-Robots-Tag:noindex
X-PUBLISHED-TTL:PT1H
BEGIN:VTIMEZONE
TZID:America/Chicago
BEGIN:DAYLIGHT
TZOFFSETFROM:-0600
TZOFFSETTO:-0500
TZNAME:CDT
DTSTART:20240310T080000
END:DAYLIGHT
BEGIN:STANDARD
TZOFFSETFROM:-0500
TZOFFSETTO:-0600
TZNAME:CST
DTSTART:20241103T070000
END:STANDARD
END:VTIMEZONE
BEGIN:VEVENT
DTSTART;TZID=America/Chicago:20240216T120000
DTEND;TZID=America/Chicago:20240216T130000
DTSTAMP:20260422T182738
CREATED:20240123T195244Z
LAST-MODIFIED:20240131T211736Z
UID:43691-1708084800-1708088400@orangecity.biz
SUMMARY:February Lunch & Learn
DESCRIPTION:February Lunch & Learn\nWe will be discussing: \nDigital Marketing for Beginners \nWe will have some local experts on hand to answer your questions and give a short program on Digital Marketing for your business. Digital marketing\, also known as online marketing\, is a way to promote a brand to potential customers using digital communication. It includes email\, social media\, web-based advertising\, text\, and multimedia messages. \nDigital marketing can help businesses: \n\nRaise awareness of a brand\nBuild relationships with customers\nGenerate leads and sales\nSave money\nMeasure results\nGet creative and stand out from competitors\n\nSign up here: Lunch & Learn Sign up \n 
URL:https://orangecity.biz/event/february-lunch-learn/
LOCATION:Prairie Winds Event Center\, 908 8th ST SE\, Orange City\, IA\, 51041\, United States
CATEGORIES:Lunch & Learn
ATTACH;FMTTYPE=image/png:https://orangecity.biz/wp-content/uploads/2024/01/Lunch_Learn_16x9-banner.png
ORGANIZER;CN="Orange CIty Chamber":MAILTO:mike@orangecity.biz
END:VEVENT
END:VCALENDAR