BEGIN:VCALENDAR
VERSION:2.0
PRODID:-//Orange City Chamber of Commerce - ECPv6.11.2.1//NONSGML v1.0//EN
CALSCALE:GREGORIAN
METHOD:PUBLISH
X-ORIGINAL-URL:https://orangecity.biz
X-WR-CALDESC:Events for Orange City Chamber of Commerce
REFRESH-INTERVAL;VALUE=DURATION:PT1H
X-Robots-Tag:noindex
X-PUBLISHED-TTL:PT1H
BEGIN:VTIMEZONE
TZID:America/Chicago
BEGIN:DAYLIGHT
TZOFFSETFROM:-0600
TZOFFSETTO:-0500
TZNAME:CDT
DTSTART:20240310T080000
END:DAYLIGHT
BEGIN:STANDARD
TZOFFSETFROM:-0500
TZOFFSETTO:-0600
TZNAME:CST
DTSTART:20241103T070000
END:STANDARD
END:VTIMEZONE
BEGIN:VEVENT
DTSTART;TZID=America/Chicago:20240315T110000
DTEND;TZID=America/Chicago:20240315T120000
DTSTAMP:20260422T125041
CREATED:20240205T195011Z
LAST-MODIFIED:20240220T175311Z
UID:43850-1710500400-1710504000@orangecity.biz
SUMMARY:March Lunch & Learn
DESCRIPTION:March Lunch & Learn\nWe will be discussing: \nBecome a Dementia Friendly Business!  Dementia Friendly Business / Organization Training Program \n \nDementia Friendly Iowa promotes change and education in communities across Iowa to create a more informed\, safe\, and respectful place for people living with dementia and their caregivers. According to the Alzheimer’s Association\, at least 66\,000 people are living with dementia in Iowa\, and this number is expected to grow to at least 73\,000 by 2025. \nAny business/organization in Iowa can become “dementia friendly.” From grocery stores to restaurants and real estate agencies to churches\, there is a specific content tailored for each type of business. Since the majority of people with dementia live in the community\, all sectors of the community need to be equipped and ready to serve clients with dementia. \nThis training will also help employers and coworkers better understand\, accommodate\, and empathize with employees who may be caring for a loved one with dementia. Check out the training brochure here. \nSign up here: Lunch & Learn Sign up \n 
URL:https://orangecity.biz/event/march-lunch-learn/
LOCATION:Prairie Winds Event Center\, 908 8th ST SE\, Orange City\, IA\, 51041\, United States
CATEGORIES:Lunch & Learn
ATTACH;FMTTYPE=image/png:https://orangecity.biz/wp-content/uploads/2024/02/Lunch_Learn_16x9-banner_event-feature-image.png
ORGANIZER;CN="Orange CIty Chamber":MAILTO:mike@orangecity.biz
END:VEVENT
BEGIN:VEVENT
DTSTART;TZID=America/Chicago:20240320T163000
DTEND;TZID=America/Chicago:20240320T193000
DTSTAMP:20260422T125041
CREATED:20240306T155838Z
LAST-MODIFIED:20240306T161049Z
UID:44050-1710952200-1710963000@orangecity.biz
SUMMARY:Spring Wine Walk
DESCRIPTION:Get ready for the Spring Chamber Merchants Wine Walk! \nJoin us on Wednesday\, March 20 for an evening of fun\, wine\, savory sweets as we sip\, savor\, and celebrate the best of local wines right in the heart of downtown Orange City. \nWine enthusiasts and sweets lovers\, this one’s for you! \nYou’ll have the chance to taste an array of exquisite wines from Iowa and beyond all while shopping some great Orange City retailers. \nBring your friends\, your loved ones\, or just come to make new ones. It’s a social event that brings the community together like no other. \nMark your calendar for the Chamber Merchants Wine Walk on Wednesday\, March 20 from 4:30pm to 7:30pm \nLearn More…….
URL:https://orangecity.biz/event/spring-wine-walk/
LOCATION:Downtown Orange City\, 125 Central Ave NE\, Orange City\, IA\, 51041\, United States
CATEGORIES:Chamber Events
ATTACH;FMTTYPE=image/png:https://orangecity.biz/wp-content/uploads/2024/03/Wine-Walk_16x9-banner_event-feature-image.png
ORGANIZER;CN="Orange CIty Chamber":MAILTO:mike@orangecity.biz
END:VEVENT
BEGIN:VEVENT
DTSTART;TZID=America/Chicago:20240330T110000
DTEND;TZID=America/Chicago:20240330T233000
DTSTAMP:20260422T125041
CREATED:20240220T224543Z
LAST-MODIFIED:20240315T121646Z
UID:43889-1711796400-1711841400@orangecity.biz
SUMMARY:Easter Egg Hunt
DESCRIPTION:Easter Egg Hunt\nSaturday\, March 30\, 2024 Windmill Park 11am\nSat\, March 30th 11am Windmill Park Downtown Orange City\nAges 0 – 5th grade \nThis Easter Egg hunt is open to children from infancy to 5th grade and promises an abundance of sweet treats. \nThe Easter Bunny will make a special appearance for delightful photo opportunities with all ages. \nBring your camera and Easter Basket \nVisit Alton’s Egg Hunt at 10am and then join us \nLearn More…….
URL:https://orangecity.biz/event/easter-egg-hunt/
LOCATION:Windmill Park\, 100 Central Ave NW\, Orange City\, IA\, 51041\, United States
CATEGORIES:Chamber Events
ATTACH;FMTTYPE=image/png:https://orangecity.biz/wp-content/uploads/2024/02/Easter-Egg-Hunt_16x9-banner_event-feature-image.png
ORGANIZER;CN="Orange CIty Chamber":MAILTO:mike@orangecity.biz
END:VEVENT
END:VCALENDAR