BEGIN:VCALENDAR
VERSION:2.0
PRODID:-//Orange City Chamber of Commerce - ECPv6.11.2.1//NONSGML v1.0//EN
CALSCALE:GREGORIAN
METHOD:PUBLISH
X-WR-CALNAME:Orange City Chamber of Commerce
X-ORIGINAL-URL:https://orangecity.biz
X-WR-CALDESC:Events for Orange City Chamber of Commerce
REFRESH-INTERVAL;VALUE=DURATION:PT1H
X-Robots-Tag:noindex
X-PUBLISHED-TTL:PT1H
BEGIN:VTIMEZONE
TZID:America/Chicago
BEGIN:DAYLIGHT
TZOFFSETFROM:-0600
TZOFFSETTO:-0500
TZNAME:CDT
DTSTART:20240310T080000
END:DAYLIGHT
BEGIN:STANDARD
TZOFFSETFROM:-0500
TZOFFSETTO:-0600
TZNAME:CST
DTSTART:20241103T070000
END:STANDARD
END:VTIMEZONE
BEGIN:VEVENT
DTSTART;TZID=America/Chicago:20240427T100000
DTEND;TZID=America/Chicago:20240427T190000
DTSTAMP:20260422T110817
CREATED:20240401T183256Z
LAST-MODIFIED:20240404T140902Z
UID:44101-1714212000-1714244400@orangecity.biz
SUMMARY:KONINGSDAG (Kings Day)
DESCRIPTION:What is King’s Day? \nOn April 27th the Dutch celebrate King Willem Alexander’s birthday\, ‘King’s Day’\n(or Koningsdag in Dutch). Being the most highly celebrated holiday in the\nNetherlands\, King’s Day holds a special place in the hearts of the people.\nCan we still celebrate in Orange City\, Iowa? Yes! Tulip Festival is right around\nthe corner. \nA fun day in partnerhip with the Chamber Merchants\, Dutch American Heritage Museum\, Duth Heritage Boosters\, and the Orange City Tulip Festival. \nLearn More……
URL:https://orangecity.biz/event/koningsdag-kings-day/
LOCATION:Downtown Orange City\, 125 Central Ave NE\, Orange City\, IA\, 51041\, United States
CATEGORIES:Chamber Events
ATTACH;FMTTYPE=image/png:https://orangecity.biz/wp-content/uploads/2024/04/Kings-Day_16x9-banner_event-feature-image-2.png
ORGANIZER;CN="Orange CIty Chamber":MAILTO:mike@orangecity.biz
END:VEVENT
END:VCALENDAR