BEGIN:VCALENDAR
VERSION:2.0
PRODID:-//Orange City Chamber of Commerce - ECPv6.11.2.1//NONSGML v1.0//EN
CALSCALE:GREGORIAN
METHOD:PUBLISH
X-WR-CALNAME:Orange City Chamber of Commerce
X-ORIGINAL-URL:https://orangecity.biz
X-WR-CALDESC:Events for Orange City Chamber of Commerce
REFRESH-INTERVAL;VALUE=DURATION:PT1H
X-Robots-Tag:noindex
X-PUBLISHED-TTL:PT1H
BEGIN:VTIMEZONE
TZID:America/Chicago
BEGIN:DAYLIGHT
TZOFFSETFROM:-0600
TZOFFSETTO:-0500
TZNAME:CDT
DTSTART:20240310T080000
END:DAYLIGHT
BEGIN:STANDARD
TZOFFSETFROM:-0500
TZOFFSETTO:-0600
TZNAME:CST
DTSTART:20241103T070000
END:STANDARD
END:VTIMEZONE
BEGIN:VEVENT
DTSTART;TZID=America/Chicago:20240621T120000
DTEND;TZID=America/Chicago:20240621T130000
DTSTAMP:20260422T090748
CREATED:20240523T190909Z
LAST-MODIFIED:20240523T190909Z
UID:44158-1718971200-1718974800@orangecity.biz
SUMMARY:June Lunch & Learn
DESCRIPTION:June Lunch & Learn\nWe will be discussing: \n \nCome learn how to maximize the free marketing opportunities through the Iowa Tourism Office! From getting your business listed on the Travel Iowa website to tips for your social media accounts and more\, this is a great opportunity to learn how to look your best using Travel Iowa’s marketing tools to attract visitors to your business\, and potentially new residents to your town! \nSign up here: Lunch & Learn Sign up \n 
URL:https://orangecity.biz/event/june-lunch-learn/
LOCATION:Gezellig\, 107 Central Ave NE\, Orange City\, 51041\, United States
CATEGORIES:Lunch & Learn
ATTACH;FMTTYPE=image/png:https://orangecity.biz/wp-content/uploads/2024/02/Lunch_Learn_16x9-banner_event-feature-image.png
ORGANIZER;CN="Orange CIty Chamber":MAILTO:mike@orangecity.biz
END:VEVENT
END:VCALENDAR