BEGIN:VCALENDAR
VERSION:2.0
PRODID:-//Orange City Chamber of Commerce - ECPv6.11.2.1//NONSGML v1.0//EN
CALSCALE:GREGORIAN
METHOD:PUBLISH
X-ORIGINAL-URL:https://orangecity.biz
X-WR-CALDESC:Events for Orange City Chamber of Commerce
REFRESH-INTERVAL;VALUE=DURATION:PT1H
X-Robots-Tag:noindex
X-PUBLISHED-TTL:PT1H
BEGIN:VTIMEZONE
TZID:America/Chicago
BEGIN:DAYLIGHT
TZOFFSETFROM:-0600
TZOFFSETTO:-0500
TZNAME:CDT
DTSTART:20240310T080000
END:DAYLIGHT
BEGIN:STANDARD
TZOFFSETFROM:-0500
TZOFFSETTO:-0600
TZNAME:CST
DTSTART:20241103T070000
END:STANDARD
END:VTIMEZONE
BEGIN:VEVENT
DTSTART;TZID=America/Chicago:20240921T100000
DTEND;TZID=America/Chicago:20240921T130000
DTSTAMP:20260420T042343
CREATED:20240611T141411Z
LAST-MODIFIED:20240611T141411Z
UID:44211-1726912800-1726923600@orangecity.biz
SUMMARY:Chamber Farmers Market Sept 21
DESCRIPTION:The Chamber Farmers Market provides access to fresh produce\, homemade food and other locally produced products. We invite you to downtown Orange City to enjoy our town and all we have to offer every Saturday morning. This year we will be inviting musicians and other artists in an effort to grow our market and bring something fun & fresh to downtown!\n\nWe are also bringing back the popular Kids Saturday Market that will showcase a Kids Market\, inflatables for kids on the 2nd Saturday of each Month.
URL:https://orangecity.biz/event/chamber-farmers-market-sept-21/
LOCATION:Downtown Orange City\, 125 Central Ave NE\, Orange City\, IA\, 51041\, United States
CATEGORIES:Chamber Events
ATTACH;FMTTYPE=image/jpeg:https://orangecity.biz/wp-content/uploads/2024/01/farmers-market-orange-city-ia.jpg
ORGANIZER;CN="Orange CIty Chamber":MAILTO:mike@orangecity.biz
END:VEVENT
END:VCALENDAR