BEGIN:VCALENDAR
VERSION:2.0
PRODID:-//Orange City Chamber of Commerce - ECPv6.11.2.1//NONSGML v1.0//EN
CALSCALE:GREGORIAN
METHOD:PUBLISH
X-ORIGINAL-URL:https://orangecity.biz
X-WR-CALDESC:Events for Orange City Chamber of Commerce
REFRESH-INTERVAL;VALUE=DURATION:PT1H
X-Robots-Tag:noindex
X-PUBLISHED-TTL:PT1H
BEGIN:VTIMEZONE
TZID:America/Chicago
BEGIN:DAYLIGHT
TZOFFSETFROM:-0600
TZOFFSETTO:-0500
TZNAME:CDT
DTSTART:20240310T080000
END:DAYLIGHT
BEGIN:STANDARD
TZOFFSETFROM:-0500
TZOFFSETTO:-0600
TZNAME:CST
DTSTART:20241103T070000
END:STANDARD
END:VTIMEZONE
BEGIN:VEVENT
DTSTART;TZID=America/Chicago:20241025T120000
DTEND;TZID=America/Chicago:20241025T170000
DTSTAMP:20260420T025934
CREATED:20240813T140555Z
LAST-MODIFIED:20240822T113258Z
UID:44425-1729857600-1729875600@orangecity.biz
SUMMARY:Dowtown Trick or Treat 2024
DESCRIPTION:  \nStop downtown Orange City and visit particpating businesses during the downtown trick or treat from Noon to 5pm. \nLook for the Orange trick or treat signs!
URL:https://orangecity.biz/event/dowtown-trick-or-treat-2024/
LOCATION:Downtown Orange City\, 125 Central Ave NE\, Orange City\, IA\, 51041\, United States
CATEGORIES:Chamber Events,Member Events,Merchant Promotions
ATTACH;FMTTYPE=image/jpeg:https://orangecity.biz/wp-content/uploads/2024/08/trick-or-treat-16x9_2024-1.jpg
ORGANIZER;CN="Orange CIty Chamber":MAILTO:mike@orangecity.biz
END:VEVENT
BEGIN:VEVENT
DTSTART;TZID=America/Chicago:20241025T193000
DTEND;TZID=America/Chicago:20241025T220000
DTSTAMP:20260420T025934
CREATED:20241014T191118Z
LAST-MODIFIED:20241014T192436Z
UID:44743-1729884600-1729893600@orangecity.biz
SUMMARY:Woudstra Meat Market Mingo & Munchies
DESCRIPTION:Join us our October event at Gezellig. For October we are hosting a Mingo & Munchies night. Doors will open at 7:30 but the Mingo game will begin at 8pm. Get dressed up in your favorite Halloween outfit and come have a wonderful time. Tickets will be $10/person and will include the Mingo & Munchies. Cash bar will be available for both alcoholic and non alcoholic beverages. Fill out our online form to RSVP! \nRegistration Link
URL:https://orangecity.biz/event/woudstra-meat-market-mingo-munchies/
LOCATION:Gezellig\, 107 Central Ave NE\, Orange City\, 51041\, United States
CATEGORIES:Member Events
ATTACH;FMTTYPE=image/jpeg:https://orangecity.biz/wp-content/uploads/2024/10/Woudstras_Mingo-and-Munchies.jpg
ORGANIZER;CN="Woudstra Meat Market":MAILTO:woudstrameats@gmail.com
END:VEVENT
END:VCALENDAR