BEGIN:VCALENDAR
VERSION:2.0
PRODID:-//Orange City Chamber of Commerce - ECPv6.11.2.1//NONSGML v1.0//EN
CALSCALE:GREGORIAN
METHOD:PUBLISH
X-ORIGINAL-URL:https://orangecity.biz
X-WR-CALDESC:Events for Orange City Chamber of Commerce
REFRESH-INTERVAL;VALUE=DURATION:PT1H
X-Robots-Tag:noindex
X-PUBLISHED-TTL:PT1H
BEGIN:VTIMEZONE
TZID:America/Chicago
BEGIN:DAYLIGHT
TZOFFSETFROM:-0600
TZOFFSETTO:-0500
TZNAME:CDT
DTSTART:20240310T080000
END:DAYLIGHT
BEGIN:STANDARD
TZOFFSETFROM:-0500
TZOFFSETTO:-0600
TZNAME:CST
DTSTART:20241103T070000
END:STANDARD
END:VTIMEZONE
BEGIN:VEVENT
DTSTART;TZID=America/Chicago:20241107T080000
DTEND;TZID=America/Chicago:20241107T090000
DTSTAMP:20260420T012246
CREATED:20240814T211751Z
LAST-MODIFIED:20240814T211830Z
UID:44530-1730966400-1730970000@orangecity.biz
SUMMARY:Kweken Connections Nov 7 2024
DESCRIPTION:Every 1st & 3rd Thursday 8AM @ Kweken Co.
URL:https://orangecity.biz/event/kweken-connections-nov-7-24/
LOCATION:Kweken Co.\, 113 3rd St NW\, Orange City\, Iowa\, 51041
CATEGORIES:Chamber Events,Member Events
ATTACH;FMTTYPE=image/png:https://orangecity.biz/wp-content/uploads/2024/08/chamber-member-event-feature_Kweken-TEST-1.png
END:VEVENT
END:VCALENDAR