BEGIN:VCALENDAR
VERSION:2.0
PRODID:-//Orange City Chamber of Commerce - ECPv6.11.2.1//NONSGML v1.0//EN
CALSCALE:GREGORIAN
METHOD:PUBLISH
X-WR-CALNAME:Orange City Chamber of Commerce
X-ORIGINAL-URL:https://orangecity.biz
X-WR-CALDESC:Events for Orange City Chamber of Commerce
REFRESH-INTERVAL;VALUE=DURATION:PT1H
X-Robots-Tag:noindex
X-PUBLISHED-TTL:PT1H
BEGIN:VTIMEZONE
TZID:America/Chicago
BEGIN:DAYLIGHT
TZOFFSETFROM:-0600
TZOFFSETTO:-0500
TZNAME:CDT
DTSTART:20240310T080000
END:DAYLIGHT
BEGIN:STANDARD
TZOFFSETFROM:-0500
TZOFFSETTO:-0600
TZNAME:CST
DTSTART:20241103T070000
END:STANDARD
END:VTIMEZONE
BEGIN:VEVENT
DTSTART;TZID=America/Chicago:20241122T183000
DTEND;TZID=America/Chicago:20241125T200000
DTSTAMP:20260420T012736
CREATED:20240813T150323Z
LAST-MODIFIED:20240813T175825Z
UID:44440-1732300200-1732564800@orangecity.biz
SUMMARY:Floral Market outdoor plant workshop
DESCRIPTION:Outdoor Planter Workshop\n\n\n\n\n\n\n\n\n\n\n\n\n\n\n\n\n\n\n\n\n\n\n\n\n\n\n\n\n\n\n\n\n\n\n\n\n\n\n\n\n\n\n\n\n\n\nEvent by The Floral Market\n\n\n\n\n\n\n\n\n\n\n\n\n\n\n\n\n\n\n\n\n\n\n\n\n\n\n\n\nPublic  · Anyone on or off Facebook\n\n\n\n\n\n\n\n\n Join Us for an Enchanting Outdoor Planter Workshop at The Floral Market! \n Choose Your Date: Friday\, November 22nd or Monday\, November 25th Time: 6:30 PM – 8:00 PM\nAre you ready to spruce up your outdoor space for the winter season? Look no further! The Floral Market invites you to our Outdoor Planter Workshop\, where you can let your creativity bloom and design your very own winter planter masterpiece.\n You get to choose what you would like in your planter!\n Berries Ornaments Birch Poles Pine Cones of all sizes Ribbon and more!\nWhether you’re a novice or an experienced designer\, this workshop is tailored just for you. Our expert team will guide you through the process\, offering tips and tricks to create a stunning winter planter that will dazzle throughout the season.\n Bring Your Own Container or Choose from Our Wide Selection:Don’t worry if you don’t have a container; we have a vast array of options available at The Floral Market to suit your style and preference.\n Fun for All:This workshop isn’t just about creating beautiful planters; it’s also about making memories with friends and family. Gather your loved ones for a delightful evening of creativity and bonding.\nCan’t Make the Scheduled Dates?No problem! You can call ahead and reserve a time for a group outing. Whether it’s your church group\, school friends\, or family\, we can accommodate you. Customize your workshop experience to fit your schedule!\n Reserve Your Spot:Spaces are limited\, so be sure to secure your spot by calling us at 712-707-9800 today. Create lasting memories and stunning outdoor planters at The Floral Market’s Outdoor Planter Workshop. We can’t wait to see you there!\nLet’s make this winter season truly magical with your one-of-a-kind outdoor planters. See you soon! \nCost of workshop: $15 + cost of the planter (varies per participant)\nSIGN UP HERE: Sign Up!
URL:https://orangecity.biz/event/floral-market-outdoor-plant-workshop/
LOCATION:The Floral Market
CATEGORIES:Chamber Events,Member Events
ATTACH;FMTTYPE=image/png:https://orangecity.biz/wp-content/uploads/2024/08/chamber-member-event-feature-background.png
END:VEVENT
END:VCALENDAR