BEGIN:VCALENDAR
VERSION:2.0
PRODID:-//Orange City Chamber of Commerce - ECPv6.11.2.1//NONSGML v1.0//EN
CALSCALE:GREGORIAN
METHOD:PUBLISH
X-ORIGINAL-URL:https://orangecity.biz
X-WR-CALDESC:Events for Orange City Chamber of Commerce
REFRESH-INTERVAL;VALUE=DURATION:PT1H
X-Robots-Tag:noindex
X-PUBLISHED-TTL:PT1H
BEGIN:VTIMEZONE
TZID:America/Chicago
BEGIN:DAYLIGHT
TZOFFSETFROM:-0600
TZOFFSETTO:-0500
TZNAME:CDT
DTSTART:20250309T080000
END:DAYLIGHT
BEGIN:STANDARD
TZOFFSETFROM:-0500
TZOFFSETTO:-0600
TZNAME:CST
DTSTART:20251102T070000
END:STANDARD
END:VTIMEZONE
BEGIN:VEVENT
DTSTART;TZID=America/Chicago:20250220T083000
DTEND;TZID=America/Chicago:20250220T113000
DTSTAMP:20260419T184719
CREATED:20250107T170948Z
LAST-MODIFIED:20250121T151955Z
UID:44955-1740040200-1740051000@orangecity.biz
SUMMARY:NWC Pastor & Entrepreneur Conference 2025
DESCRIPTION:Entrepreneurs are all around you. \nIn today’s side hustle and gig economy\, as many as 20% of church attendees consider themselves entrepreneurially minded. More than likely\,  pastors have 10\, 20\, or 30+ entrepreneurs in their congregation at this very moment. They’re probably the biggest financial supporters of ministry. They’re the leaders in the community and now more than ever they need Christ-like leadership within the church. \nWe’ve made Faith Driven Entrepreneurs our focus and we’ve always believed in the local Church.  Let us help you catalyze this key population.   \nClick Here to register!\n 
URL:https://orangecity.biz/event/nwc-pastor-entrepreneur-conference-2025/
LOCATION:Northwestern College\, Orange City\, Iowa\, 51041
CATEGORIES:Chamber Events,Member Events
ATTACH;FMTTYPE=image/png:https://orangecity.biz/wp-content/uploads/2025/01/chamber-member-event-feature_NWC-Entre-event.png
END:VEVENT
END:VCALENDAR