BEGIN:VCALENDAR
VERSION:2.0
PRODID:-//Orange City Chamber of Commerce - ECPv6.11.2.1//NONSGML v1.0//EN
CALSCALE:GREGORIAN
METHOD:PUBLISH
X-WR-CALNAME:Orange City Chamber of Commerce
X-ORIGINAL-URL:https://orangecity.biz
X-WR-CALDESC:Events for Orange City Chamber of Commerce
REFRESH-INTERVAL;VALUE=DURATION:PT1H
X-Robots-Tag:noindex
X-PUBLISHED-TTL:PT1H
BEGIN:VTIMEZONE
TZID:America/Chicago
BEGIN:DAYLIGHT
TZOFFSETFROM:-0600
TZOFFSETTO:-0500
TZNAME:CDT
DTSTART:20250309T080000
END:DAYLIGHT
BEGIN:STANDARD
TZOFFSETFROM:-0500
TZOFFSETTO:-0600
TZNAME:CST
DTSTART:20251102T070000
END:STANDARD
END:VTIMEZONE
BEGIN:VEVENT
DTSTART;TZID=America/Chicago:20250419T110000
DTEND;TZID=America/Chicago:20250419T233000
DTSTAMP:20260419T171154
CREATED:20250411T153501Z
LAST-MODIFIED:20250411T153501Z
UID:45016-1745060400-1745105400@orangecity.biz
SUMMARY:Easter Egg Hunt 2025
DESCRIPTION:Easter Egg Hunt\nSaturday\, April 19\, 2025 Windmill Park 11am\nSat\, April 19th 11am Windmill Park Downtown Orange City\nAges 0 – 5th grade \nThis Easter Egg hunt is open to children from infancy to 5th grade and promises an abundance of sweet treats. \nThe Easter Bunny will make a special appearance for delightful photo opportunities with all ages. \nBring your camera and Easter Basket \nVisit Alton’s Egg Hunt at 10am and then join us \nLearn More…….
URL:https://orangecity.biz/event/easter-egg-hunt-2025/
LOCATION:Windmill Park\, 100 Central Ave NW\, Orange City\, IA\, 51041\, United States
CATEGORIES:Chamber Events
ATTACH;FMTTYPE=image/png:https://orangecity.biz/wp-content/uploads/2024/02/Easter-Egg-Hunt_16x9-banner_event-feature-image.png
ORGANIZER;CN="Orange CIty Chamber":MAILTO:mike@orangecity.biz
END:VEVENT
END:VCALENDAR