BEGIN:VCALENDAR
VERSION:2.0
PRODID:-//Orange City Chamber of Commerce - ECPv6.11.2.1//NONSGML v1.0//EN
CALSCALE:GREGORIAN
METHOD:PUBLISH
X-WR-CALNAME:Orange City Chamber of Commerce
X-ORIGINAL-URL:https://orangecity.biz
X-WR-CALDESC:Events for Orange City Chamber of Commerce
REFRESH-INTERVAL;VALUE=DURATION:PT1H
X-Robots-Tag:noindex
X-PUBLISHED-TTL:PT1H
BEGIN:VTIMEZONE
TZID:America/Chicago
BEGIN:DAYLIGHT
TZOFFSETFROM:-0600
TZOFFSETTO:-0500
TZNAME:CDT
DTSTART:20250309T080000
END:DAYLIGHT
BEGIN:STANDARD
TZOFFSETFROM:-0500
TZOFFSETTO:-0600
TZNAME:CST
DTSTART:20251102T070000
END:STANDARD
END:VTIMEZONE
BEGIN:VEVENT
DTSTART;TZID=America/Chicago:20250820T170000
DTEND;TZID=America/Chicago:20250820T190000
DTSTAMP:20260419T094246
CREATED:20250818T131724Z
LAST-MODIFIED:20250818T131724Z
UID:45052-1755709200-1755716400@orangecity.biz
SUMMARY:Arts on Central 2025
DESCRIPTION:It’s that time again…Celebrate the end of summer with Arts on Central on August 20! \nThis year we’re packing the street with activities\, food\, live music\, harmony quest\, bubble station\, face painting\, ballon twisting\, community band and live DJ. \nCommunity Meal served put on by Chamber Businesses! \nLEARN MORE…….
URL:https://orangecity.biz/event/artsoncentral-2025/
LOCATION:Downtown Orange City\, 125 Central Ave NE\, Orange City\, IA\, 51041\, United States
CATEGORIES:Chamber Events,Member Events,Merchant Promotions
ATTACH;FMTTYPE=image/png:https://orangecity.biz/wp-content/uploads/2024/07/aoc-main-event-image-1.png
ORGANIZER;CN="Orange CIty Chamber":MAILTO:mike@orangecity.biz
END:VEVENT
END:VCALENDAR