BEGIN:VCALENDAR
VERSION:2.0
PRODID:-//Orange City Chamber of Commerce - ECPv6.11.2.1//NONSGML v1.0//EN
CALSCALE:GREGORIAN
METHOD:PUBLISH
X-ORIGINAL-URL:https://orangecity.biz
X-WR-CALDESC:Events for Orange City Chamber of Commerce
REFRESH-INTERVAL;VALUE=DURATION:PT1H
X-Robots-Tag:noindex
X-PUBLISHED-TTL:PT1H
BEGIN:VTIMEZONE
TZID:America/Chicago
BEGIN:DAYLIGHT
TZOFFSETFROM:-0600
TZOFFSETTO:-0500
TZNAME:CDT
DTSTART:20250309T080000
END:DAYLIGHT
BEGIN:STANDARD
TZOFFSETFROM:-0500
TZOFFSETTO:-0600
TZNAME:CST
DTSTART:20251102T070000
END:STANDARD
END:VTIMEZONE
BEGIN:VEVENT
DTSTART;VALUE=DATE:20250905
DTEND;VALUE=DATE:20250907
DTSTAMP:20260419T075923
CREATED:20240909T183708Z
LAST-MODIFIED:20250811T183620Z
UID:44611-1757030400-1757203199@orangecity.biz
SUMMARY:BBQ Smoke Off 2025
DESCRIPTION:Downtown Orange City Saturday\, September 6\, 2025\n\nBBQ Smoke off and sides\nBeer Garden\nGames\nCorn-hole tournament\nFootball on Big Screens – NWC College & Iowa vs Iowa State Game (Plus others!)\nCommunity Meal Free Will Donation\nFun for all ages!\n\nwww.orangecity.biz/bbq \nSmoker Teams Welcome!
URL:https://orangecity.biz/event/bbq-smoke-off-2025/
LOCATION:Downtown Orange City\, 125 Central Ave NE\, Orange City\, IA\, 51041\, United States
CATEGORIES:Chamber Events,Member Events,Merchant Promotions
ATTACH;FMTTYPE=image/png:https://orangecity.biz/wp-content/uploads/2023/08/embers-icon-1.png
ORGANIZER;CN="Orange CIty Chamber":MAILTO:mike@orangecity.biz
END:VEVENT
END:VCALENDAR