BEGIN:VCALENDAR
VERSION:2.0
PRODID:-//Orange City Chamber of Commerce - ECPv6.11.2.1//NONSGML v1.0//EN
CALSCALE:GREGORIAN
METHOD:PUBLISH
X-ORIGINAL-URL:https://orangecity.biz
X-WR-CALDESC:Events for Orange City Chamber of Commerce
REFRESH-INTERVAL;VALUE=DURATION:PT1H
X-Robots-Tag:noindex
X-PUBLISHED-TTL:PT1H
BEGIN:VTIMEZONE
TZID:America/Chicago
BEGIN:DAYLIGHT
TZOFFSETFROM:-0600
TZOFFSETTO:-0500
TZNAME:CDT
DTSTART:20250309T080000
END:DAYLIGHT
BEGIN:STANDARD
TZOFFSETFROM:-0500
TZOFFSETTO:-0600
TZNAME:CST
DTSTART:20251102T070000
END:STANDARD
END:VTIMEZONE
BEGIN:VEVENT
DTSTART;TZID=America/Chicago:20250918T160000
DTEND;TZID=America/Chicago:20250918T180000
DTSTAMP:20260419T075923
CREATED:20240813T125725Z
LAST-MODIFIED:20250908T154735Z
UID:44403-1758211200-1758218400@orangecity.biz
SUMMARY:Sekisui Aerospace Open House
DESCRIPTION:
URL:https://orangecity.biz/event/sekisui-aerospace-open-house/
LOCATION:Sekisui Aerospace\, 403 14th ST SE\, Orange City\, IA\, 51041
CATEGORIES:Chamber Events,Member Events
ATTACH;FMTTYPE=image/png:https://orangecity.biz/wp-content/uploads/2024/08/chamber-member-event-feature-background.png
ORGANIZER;CN="Orange CIty Chamber":MAILTO:mike@orangecity.biz
END:VEVENT
END:VCALENDAR